BEGIN:VCALENDAR
VERSION:2.0
PRODID:-//Unchartered Tutoring - ECPv5.9.0//NONSGML v1.0//EN
CALSCALE:GREGORIAN
METHOD:PUBLISH
X-WR-CALNAME:Unchartered Tutoring
X-ORIGINAL-URL:https://unchartered.org
X-WR-CALDESC:Events for Unchartered Tutoring
BEGIN:VTIMEZONE
TZID:UTC
BEGIN:STANDARD
TZOFFSETFROM:+0000
TZOFFSETTO:+0000
TZNAME:UTC
DTSTART:20170101T000000
END:STANDARD
END:VTIMEZONE
BEGIN:VEVENT
DTSTART;TZID=UTC:20171106T153000
DTEND;TZID=UTC:20171106T173000
DTSTAMP:20260420T143403
CREATED:20171011T222732Z
LAST-MODIFIED:20171011T223051Z
UID:12272-1509982200-1509989400@unchartered.org
SUMMARY:UNH STEM Lab Anatomy Art
DESCRIPTION:Unchartered Tutoring and the UNH STEM Discovery Lab are partnering to offer Anatomy Art. Anatomy Art ties together anatomy and art in four consecutive classes. Students will create a paper brain hat\, ornamental gingerbread men focused on general anatomy systems\, build a mechanical model of the hand and create watercolor paintings of cells. Discussions regarding general anatomy\, importance of exercise and healthy eating\, how our body works together and basic mechanical concepts will be held. Some basic comparative anatomy may be discussed. \n\nDates of Program: November 6th\, 13th\, 20th\, 27th. 3:30-5:30. \nUNH STEM Discovery Lab – Pandora Building\, 88 Commercial St\, Manchester \n\n\nYouth in grades 1-6. \n$70 \nLimited Space
URL:https://unchartered.org/event/12272/
LOCATION:STEM Discovery Lab at UNH\, 88 Commercial St\, Manchester\, NH\, 03101\, United States
CATEGORIES:After School Art Enrichment
END:VEVENT
END:VCALENDAR