BEGIN:VCALENDAR
VERSION:2.0
PRODID:-//Unchartered Tutoring - ECPv5.9.0//NONSGML v1.0//EN
CALSCALE:GREGORIAN
METHOD:PUBLISH
X-WR-CALNAME:Unchartered Tutoring
X-ORIGINAL-URL:https://unchartered.org
X-WR-CALDESC:Events for Unchartered Tutoring
BEGIN:VTIMEZONE
TZID:UTC
BEGIN:STANDARD
TZOFFSETFROM:+0000
TZOFFSETTO:+0000
TZNAME:UTC
DTSTART:20170101T000000
END:STANDARD
END:VTIMEZONE
BEGIN:VEVENT
DTSTART;TZID=UTC:20171130T150000
DTEND;TZID=UTC:20171130T161500
DTSTAMP:20260420T162607
CREATED:20171011T221219Z
LAST-MODIFIED:20171011T221219Z
UID:12265-1512054000-1512058500@unchartered.org
SUMMARY:Mount Zion Squishy Science
DESCRIPTION:This four week session will result in students learning several ways to make a mess. Don’t worry\, because we will make the mess and the student will take home their experiment in a lid with a container. Can we make a mess that glows in the dark? Yes. Yes we can. Can a blob respond to a magnet? With the right materials\, yes! Can we make a sand that doesn’t track through the house? Of course! \nDates: 11/30\, 12/7\,12/14 & 12/21 \nTime: 3:00-4:10
URL:https://unchartered.org/event/mount-zion-squishy-science/
LOCATION:Mount Zion Christian School\, 132 Titus Avenue \, Manchester\, NH\, 03104\, United States
CATEGORIES:After School Art Enrichment
ORGANIZER;CN="Mount%20Zion%20Christian%20School":MAILTO:info@mzcs.org
END:VEVENT
END:VCALENDAR